BEGIN:VCALENDAR
VERSION:2.0
PRODID:-//Junior Achievement of San Diego County - ECPv6.15.20//NONSGML v1.0//EN
CALSCALE:GREGORIAN
METHOD:PUBLISH
X-ORIGINAL-URL:https://jasandiego.org
X-WR-CALDESC:Events for Junior Achievement of San Diego County
REFRESH-INTERVAL;VALUE=DURATION:PT1H
X-Robots-Tag:noindex
X-PUBLISHED-TTL:PT1H
BEGIN:VTIMEZONE
TZID:America/Los_Angeles
BEGIN:DAYLIGHT
TZOFFSETFROM:-0800
TZOFFSETTO:-0700
TZNAME:PDT
DTSTART:20230312T100000
END:DAYLIGHT
BEGIN:STANDARD
TZOFFSETFROM:-0700
TZOFFSETTO:-0800
TZNAME:PST
DTSTART:20231105T090000
END:STANDARD
BEGIN:DAYLIGHT
TZOFFSETFROM:-0800
TZOFFSETTO:-0700
TZNAME:PDT
DTSTART:20240310T100000
END:DAYLIGHT
BEGIN:STANDARD
TZOFFSETFROM:-0700
TZOFFSETTO:-0800
TZNAME:PST
DTSTART:20241103T090000
END:STANDARD
BEGIN:DAYLIGHT
TZOFFSETFROM:-0800
TZOFFSETTO:-0700
TZNAME:PDT
DTSTART:20250309T100000
END:DAYLIGHT
BEGIN:STANDARD
TZOFFSETFROM:-0700
TZOFFSETTO:-0800
TZNAME:PST
DTSTART:20251102T090000
END:STANDARD
END:VTIMEZONE
BEGIN:VEVENT
DTSTART;TZID=America/Los_Angeles:20241008T113000
DTEND;TZID=America/Los_Angeles:20241008T140000
DTSTAMP:20260421T060516
CREATED:20240610T203654Z
LAST-MODIFIED:20241010T205450Z
UID:4476-1728387000-1728396000@jasandiego.org
SUMMARY:2024 JA San Diego Business Hall of Fame
DESCRIPTION:Join us for our Junior Achievement of San Diego Business Hall of Fame Luncheon as we celebrate the induction of the next class of Lifetime Laureates. These individuals represent business excellence\, inspiring leadership\, entrepreneurial achievement\, and innovation with a mindfulness toward community and philanthropy. \nThis year’s honorees are Sam Attisha\, Senior Vice President and Regional Manager of Cox Communications; Vickie Turner\, Partner Emeritus of Wilson Turner Kosmo; and Buzz Woolley\, founder of the Girard Foundation. \nRead more about these incredible individuals here. \nRegistration Closed\nTo learn more about this event or sponsorship opportunities\, please contact Linda O’Connell at loconnell@jasandiego.org. \n\nPresented by \n \n  \n  \n  \n  \nEvent Sponsors \n \n\n  \n  \n  \n  \n  \n  \n  \n  \n\n				\n					\n					\n					\n				Loading the next set of gallery items...Load More\nView photos from our previous Business Hall of Fame events. \n 
URL:https://jasandiego.org/event/2024-ja-san-diego-business-hall-of-fame/
LOCATION:The Lodge at Torrey Pines\, 11480 N Torrey Pines Rd\, La Jolla\, CA\, 92037\, United States
CATEGORIES:In Person
ORGANIZER;CN="Linda O'Connell":MAILTO:loconnell@jasandiego.org
END:VEVENT
END:VCALENDAR